BEGIN:VCALENDAR
VERSION:2.0
METHOD:PUBLISH
PRODID:-//hacksw/handcal/NONSGML v1.0//EN
BEGIN:VEVENT
TZID:America/New_York
UID:sudbury-zoom-event-648b855f71aed4ed141f815cb3cbcd76@sudbury.ma.us
SEQUENCE:1776786413
DTSTAMP:20260421T154653Z
DTSTART:20180710T224500Z
DURATION:PT195M
SUMMARY:Select Board Meeting: Tuesday\, July 10\, 2018
LOCATION:Town Hall - Lower Level
URL:https://sudbury.ma.us/selectboard/meeting/select-board-meeting-tuesday-july-10-2018/
DESCRIPTION:For the latest details\, visit:  https://sudbury.ma.us/selectboard/meeting/select-board-meeting-tuesday-july-10-2018/
END:VEVENT
END:VCALENDAR