BEGIN:VCALENDAR
VERSION:2.0
METHOD:PUBLISH
PRODID:-//hacksw/handcal/NONSGML v1.0//EN
BEGIN:VEVENT
TZID:America/New_York
UID:sudbury-zoom-event-f4356d7687bef93dc79810ee8855d188@sudbury.ma.us
SEQUENCE:1776797418
DTSTAMP:20260421T185018Z
DTSTART:20180110T003000Z
DURATION:PT180M
SUMMARY:Board of Selectmen Meeting: Tuesday\, January 9\, 2018
LOCATION:Town Hall - Lower Level
URL:https://sudbury.ma.us/selectboard/meeting/board-of-selectmen-meeting-tuesday-january-9-2018/
DESCRIPTION:For the latest details\, visit:  https://sudbury.ma.us/selectboard/meeting/board-of-selectmen-meeting-tuesday-january-9-2018/
END:VEVENT
END:VCALENDAR