BEGIN:VCALENDAR
VERSION:2.0
METHOD:PUBLISH
PRODID:-//hacksw/handcal/NONSGML v1.0//EN
BEGIN:VEVENT
TZID:America/New_York
UID:sudbury-zoom-event-5ccdc1dad257961c90611e07cd74a89a@sudbury.ma.us
SEQUENCE:1776792005
DTSTAMP:20260421T172005Z
DTSTART:20180605T220000Z
DURATION:PT300M
SUMMARY:Select Board Meeting: Tuesday\, June 5\, 2018
LOCATION:Town Hall - Lower Level
URL:https://sudbury.ma.us/selectboard/meeting/select-board-meeting-tuesday-june-5-2018/
DESCRIPTION:For the latest details\, visit:  https://sudbury.ma.us/selectboard/meeting/select-board-meeting-tuesday-june-5-2018/
END:VEVENT
END:VCALENDAR