BEGIN:VCALENDAR
VERSION:2.0
METHOD:PUBLISH
PRODID:-//hacksw/handcal/NONSGML v1.0//EN
BEGIN:VEVENT
TZID:America/New_York
UID:sudbury-zoom-event-3ef87d50eeb06d7689248e29fc74b22a@sudbury.ma.us
SEQUENCE:1776786436
DTSTAMP:20260421T154716Z
DTSTART:20181030T230000Z
DURATION:PT180M
SUMMARY:Select Board Meeting: Tuesday\, October 30\, 2018
LOCATION:Police Station
URL:https://sudbury.ma.us/selectboard/meeting/select-board-meeting-tuesday-october-30-2018/
DESCRIPTION:For the latest details\, visit:  https://sudbury.ma.us/selectboard/meeting/select-board-meeting-tuesday-october-30-2018/
END:VEVENT
END:VCALENDAR