BEGIN:VCALENDAR
VERSION:2.0
METHOD:PUBLISH
PRODID:-//hacksw/handcal/NONSGML v1.0//EN
BEGIN:VEVENT
TZID:America/New_York
UID:sudbury-zoom-event-0d4851ab28a4d4b9e3901c897bf8945e@sudbury.ma.us
SEQUENCE:1776797330
DTSTAMP:20260421T184850Z
DTSTART:20171211T120000Z
DURATION:PT780M
SUMMARY:Special Town Election TODAY\, December 11\, 2017
LOCATION:
URL:https://sudbury.ma.us/selectboard/2017/12/11/special-town-election-on-december-11-2017/
DESCRIPTION:For the latest details\, visit:  https://sudbury.ma.us/selectboard/2017/12/11/special-town-election-on-december-11-2017/
END:VEVENT
END:VCALENDAR