BEGIN:VCALENDAR
VERSION:2.0
METHOD:PUBLISH
PRODID:-//hacksw/handcal/NONSGML v1.0//EN
BEGIN:VEVENT
TZID:America/New_York
UID:sudbury-zoom-event-996d94eaf57ae054632e88c14f73fcb1@sudbury.ma.us
SEQUENCE:1776781301
DTSTAMP:20260421T142141Z
DTSTART:20190430T231500Z
DURATION:PT195M
SUMMARY:Board of Selectmen Meeting: Tuesday\, April 30\, 2019
LOCATION:Lincoln-Sudbury Regional High School - Auditorium
URL:https://sudbury.ma.us/selectboard/meeting/board-of-selectmen-meeting-tuesday-april-30-2019/
DESCRIPTION:For the latest details\, visit:  https://sudbury.ma.us/selectboard/meeting/board-of-selectmen-meeting-tuesday-april-30-2019/
END:VEVENT
END:VCALENDAR