BEGIN:VCALENDAR
VERSION:2.0
METHOD:PUBLISH
PRODID:-//hacksw/handcal/NONSGML v1.0//EN
BEGIN:VEVENT
TZID:America/New_York
UID:sudbury-zoom-event-6e74e41158811a2d4fc6ef4304c00245@sudbury.ma.us
SEQUENCE:1776770637
DTSTAMP:20260421T112357Z
DTSTART:20191001T223000Z
DURATION:PT240M
SUMMARY:Select Board Meeting: Tuesday\, October 1\, 2019
LOCATION:Town Hall - Lower Level
URL:https://sudbury.ma.us/selectboard/meeting/select-board-meeting-tuesday-october-1-2019/
DESCRIPTION:For the latest details\, visit:  https://sudbury.ma.us/selectboard/meeting/select-board-meeting-tuesday-october-1-2019/
END:VEVENT
END:VCALENDAR