BEGIN:VCALENDAR
VERSION:2.0
METHOD:PUBLISH
PRODID:-//hacksw/handcal/NONSGML v1.0//EN
BEGIN:VEVENT
TZID:America/New_York
UID:sudbury-zoom-event-55bb5893802012e02f9a27064ab0c3e2@sudbury.ma.us
SEQUENCE:1776782367
DTSTAMP:20260421T143927Z
DTSTART:20190306T000000Z
DURATION:PT180M
SUMMARY:Select Board Meeting: Tuesday\, March 5\, 2019
LOCATION:Town Hall - Lower Level
URL:https://sudbury.ma.us/selectboard/meeting/select-board-meeting-tuesday-march-5-2019/
DESCRIPTION:For the latest details\, visit:  https://sudbury.ma.us/selectboard/meeting/select-board-meeting-tuesday-march-5-2019/
END:VEVENT
END:VCALENDAR