BEGIN:VCALENDAR
VERSION:2.0
METHOD:PUBLISH
PRODID:-//hacksw/handcal/NONSGML v1.0//EN
BEGIN:VEVENT
TZID:America/New_York
UID:sudbury-zoom-event-3ebe495fb389eda5ef5f995f6e0d974b@sudbury.ma.us
SEQUENCE:1776794022
DTSTAMP:20260421T175342Z
DTSTART:20190529T230000Z
DURATION:PT60M
SUMMARY:Board of Selectmen's Office Hours: May 29
LOCATION:Piper Farm Conservation Land
URL:https://sudbury.ma.us/selectboard/2019/05/28/board-of-selectmens-office-hours-06-20-18-2-2-2-2-2-2/
DESCRIPTION:For the latest details\, visit:  https://sudbury.ma.us/selectboard/2019/05/28/board-of-selectmens-office-hours-06-20-18-2-2-2-2-2-2/
END:VEVENT
END:VCALENDAR