BEGIN:VCALENDAR
VERSION:2.0
METHOD:PUBLISH
PRODID:-//hacksw/handcal/NONSGML v1.0//EN
BEGIN:VEVENT
TZID:America/New_York
UID:sudbury-zoom-event-7503c822c8b0a5e83e37e18f3dda7809@sudbury.ma.us
SEQUENCE:1776770624
DTSTAMP:20260421T112344Z
DTSTART:20190723T133000Z
DURATION:PT150M
SUMMARY:Board of Selectmen Meeting: Tuesday\, July 23\, 2019
LOCATION:Flynn Building - Silva Meeting Room (2nd Floor)
URL:https://sudbury.ma.us/selectboard/meeting/board-of-selectmen-meeting-tuesday-july-23-2019/
DESCRIPTION:For the latest details\, visit:  https://sudbury.ma.us/selectboard/meeting/board-of-selectmen-meeting-tuesday-july-23-2019/
END:VEVENT
END:VCALENDAR