BEGIN:VCALENDAR
VERSION:2.0
METHOD:PUBLISH
PRODID:-//hacksw/handcal/NONSGML v1.0//EN
BEGIN:VEVENT
TZID:America/New_York
UID:sudbury-zoom-event-c0e748b4e81f14d7e6446a1c045712ac@sudbury.ma.us
SEQUENCE:1776781334
DTSTAMP:20260421T142214Z
DTSTART:20191007T230000Z
DURATION:PT60M
SUMMARY:Selectmen's Office Hours: Monday\, October 7 at 7PM
LOCATION:Goodnow Library - Historical Room
URL:https://sudbury.ma.us/selectboard/2019/09/25/board-of-selectmens-office-hours-06-20-18-2-2-2-2-2-2-2-2-3-2-2/
DESCRIPTION:For the latest details\, visit:  https://sudbury.ma.us/selectboard/2019/09/25/board-of-selectmens-office-hours-06-20-18-2-2-2-2-2-2-2-2-3-2-2/
END:VEVENT
END:VCALENDAR