BEGIN:VCALENDAR
VERSION:2.0
METHOD:PUBLISH
PRODID:-//hacksw/handcal/NONSGML v1.0//EN
BEGIN:VEVENT
TZID:America/New_York
UID:sudbury-zoom-event-0921f66771bfd1030f6fecd0c6e342d0@sudbury.ma.us
SEQUENCE:1776786416
DTSTAMP:20260421T154656Z
DTSTART:20200303T233000Z
DURATION:PT210M
SUMMARY:Select Board Meeting: Tuesday\, March 3\, 2020
LOCATION:Police Station
URL:https://sudbury.ma.us/selectboard/meeting/select-board-meeting-tuesday-march-3-2020/
DESCRIPTION:For the latest details\, visit:  https://sudbury.ma.us/selectboard/meeting/select-board-meeting-tuesday-march-3-2020/
END:VEVENT
END:VCALENDAR