BEGIN:VCALENDAR
VERSION:2.0
METHOD:PUBLISH
PRODID:-//hacksw/handcal/NONSGML v1.0//EN
BEGIN:VEVENT
TZID:America/New_York
UID:sudbury-zoom-event-1e47a890db61c47e41b4be699bbfa50d@sudbury.ma.us
SEQUENCE:1776770636
DTSTAMP:20260421T112356Z
DTSTART:20200609T220000Z
DURATION:PT300M
SUMMARY:Select Board Meeting: Tuesday\, June 9\, 2020
LOCATION:Virtual Meeting
URL:https://sudbury.ma.us/selectboard/meeting/select-board-meeting-tuesday-june-9-2020/
DESCRIPTION:For the latest details\, visit:  https://sudbury.ma.us/selectboard/meeting/select-board-meeting-tuesday-june-9-2020/
END:VEVENT
END:VCALENDAR