BEGIN:VCALENDAR
VERSION:2.0
METHOD:PUBLISH
PRODID:-//hacksw/handcal/NONSGML v1.0//EN
BEGIN:VEVENT
TZID:America/New_York
UID:sudbury-zoom-event-01e062e5b03b16d3d8958ea41912ff01@sudbury.ma.us
SEQUENCE:1776760467
DTSTAMP:20260421T083427Z
DTSTART:20201006T220000Z
DURATION:PT300M
SUMMARY:Select Board Meeting: Tuesday\, October 6\, 2020
LOCATION:Virtual Meeting
URL:https://sudbury.ma.us/selectboard/meeting/select-board-meeting-tuesday-october-6-2020/
DESCRIPTION:For the latest details\, visit:  https://sudbury.ma.us/selectboard/meeting/select-board-meeting-tuesday-october-6-2020/
END:VEVENT
END:VCALENDAR