BEGIN:VCALENDAR
VERSION:2.0
METHOD:PUBLISH
PRODID:-//hacksw/handcal/NONSGML v1.0//EN
BEGIN:VEVENT
TZID:America/New_York
UID:sudbury-zoom-event-6ef43b4904b306f0f8ff17d723950471@sudbury.ma.us
SEQUENCE:1776728811
DTSTAMP:20260420T234651Z
DTSTART:20220714T230000Z
DURATION:PT210M
SUMMARY:2022 Town Forum: Climate Change &amp\; Sustainability
LOCATION:Virtual Meeting
URL:https://sudbury.ma.us/selectboard/2022/07/14/townforum2022/
DESCRIPTION:Select Board meeting on July 14\, 2022 7:00:00 PM EDT (-04:00)\n\nTo join the Select Board meeting virtually\, please click on this link:\nhttps://zoom.us/j/89748253597\n\nFor audio only\, call the number below and enter the meeting ID on your telephone keypad.\n\nDial-in number:  978-639-3366 or 470-250-9358\nMeeting ID:  897 4825 3597\n\nFor the latest details\, visit:  https://sudbury.ma.us/selectboard/2022/07/14/townforum2022/
END:VEVENT
END:VCALENDAR