BEGIN:VCALENDAR
VERSION:2.0
METHOD:PUBLISH
PRODID:-//hacksw/handcal/NONSGML v1.0//EN
BEGIN:VEVENT
TZID:America/New_York
UID:sudbury-zoom-event-c380d2ace363d5a4aa5bc481507da216@sudbury.ma.us
SEQUENCE:1776781332
DTSTAMP:20260421T142212Z
DTSTART:20170102T140000Z
DURATION:PT480M
SUMMARY:Town Offices Closed for New Year's on Monday\, January 2nd
LOCATION:
URL:https://sudbury.ma.us/selectboardsoffice/2016/12/27/town-offices-closed-for-new-years-on-monday-january-2nd/
DESCRIPTION:For the latest details\, visit:  https://sudbury.ma.us/selectboardsoffice/2016/12/27/town-offices-closed-for-new-years-on-monday-january-2nd/
END:VEVENT
END:VCALENDAR