BEGIN:VCALENDAR
VERSION:2.0
METHOD:PUBLISH
PRODID:-//hacksw/handcal/NONSGML v1.0//EN
BEGIN:VEVENT
TZID:America/New_York
UID:sudbury-zoom-event-aa37a646599c9b66bde0f684782d5387@sudbury.ma.us
SEQUENCE:1776770638
DTSTAMP:20260421T112358Z
DTSTART:20170220T140000Z
DURATION:PT480M
SUMMARY:Town Offices Closed Presidents Day\, Monday\, February 20th
LOCATION:
URL:https://sudbury.ma.us/selectboardsoffice/2017/02/17/town-offices-closed-presidents-day-monday-february-20th/
DESCRIPTION:For the latest details\, visit:  https://sudbury.ma.us/selectboardsoffice/2017/02/17/town-offices-closed-presidents-day-monday-february-20th/
END:VEVENT
END:VCALENDAR