BEGIN:VCALENDAR
VERSION:2.0
METHOD:PUBLISH
PRODID:-//hacksw/handcal/NONSGML v1.0//EN
BEGIN:VEVENT
TZID:America/New_York
UID:sudbury-zoom-event-bd8a143f21857e56e3fbafb3dc409b13@sudbury.ma.us
SEQUENCE:1776770637
DTSTAMP:20260421T112357Z
DTSTART:20170417T130000Z
DURATION:PT480M
SUMMARY:Town Offices Closed Patriots' Day\, Monday\, April 17
LOCATION:
URL:https://sudbury.ma.us/selectboardsoffice/2017/04/12/town-offices-closed-patriots-day-monday-april-17/
DESCRIPTION:For the latest details\, visit:  https://sudbury.ma.us/selectboardsoffice/2017/04/12/town-offices-closed-patriots-day-monday-april-17/
END:VEVENT
END:VCALENDAR