BEGIN:VCALENDAR
VERSION:2.0
METHOD:PUBLISH
PRODID:-//hacksw/handcal/NONSGML v1.0//EN
BEGIN:VEVENT
TZID:America/New_York
UID:sudbury-zoom-event-0ac1dd9a1cb1b1d9727d35952e26987a@sudbury.ma.us
SEQUENCE:1776633299
DTSTAMP:20260419T211459Z
DTSTART:20170525T230000Z
DURATION:PT120M
SUMMARY:Sudbury-Hudson Transmission Reliability Project - Public Hearing
LOCATION:Lincoln-Sudbury Regional High School - Auditorium
URL:https://sudbury.ma.us/selectboardsoffice/2017/05/23/sudbury-hudson-transmission-reliability-project-public-hearing/
DESCRIPTION:For the latest details\, visit:  https://sudbury.ma.us/selectboardsoffice/2017/05/23/sudbury-hudson-transmission-reliability-project-public-hearing/
END:VEVENT
END:VCALENDAR