BEGIN:VCALENDAR
VERSION:2.0
METHOD:PUBLISH
PRODID:-//hacksw/handcal/NONSGML v1.0//EN
BEGIN:VEVENT
TZID:America/New_York
UID:sudbury-zoom-event-02f5fd6472f99b271fb455a5ef7cc368@sudbury.ma.us
SEQUENCE:1776765962
DTSTAMP:20260421T100602Z
DTSTART:20170704T130000Z
DURATION:PT480M
SUMMARY:Town Offices Closed Independence Day\, Tuesday\, July 4th
LOCATION:
URL:https://sudbury.ma.us/selectboardsoffice/2017/06/29/town-offices-closed-independence-day-tuesday-july-4th/
DESCRIPTION:For the latest details\, visit:  https://sudbury.ma.us/selectboardsoffice/2017/06/29/town-offices-closed-independence-day-tuesday-july-4th/
END:VEVENT
END:VCALENDAR