BEGIN:VCALENDAR
VERSION:2.0
METHOD:PUBLISH
PRODID:-//hacksw/handcal/NONSGML v1.0//EN
BEGIN:VEVENT
TZID:America/New_York
UID:sudbury-zoom-event-c119d5503ad2bdce6fcd4a81c551bcca@sudbury.ma.us
SEQUENCE:1776771180
DTSTAMP:20260421T113300Z
DTSTART:20171110T140000Z
DURATION:PT480M
SUMMARY:Town Offices Closed Veterans Day\, Friday\, November 10th
LOCATION:
URL:https://sudbury.ma.us/selectboardsoffice/2017/11/09/town-offices-closed-veterans-day-friday-november-10th/
DESCRIPTION:For the latest details\, visit:  https://sudbury.ma.us/selectboardsoffice/2017/11/09/town-offices-closed-veterans-day-friday-november-10th/
END:VEVENT
END:VCALENDAR