BEGIN:VCALENDAR
VERSION:2.0
METHOD:PUBLISH
PRODID:-//hacksw/handcal/NONSGML v1.0//EN
BEGIN:VEVENT
TZID:America/New_York
UID:sudbury-zoom-event-2063b113e3d7fd152613bedea4834032@sudbury.ma.us
SEQUENCE:1776760466
DTSTAMP:20260421T083426Z
DTSTART:20171225T140000Z
DURATION:PT480M
SUMMARY:Town Offices Closed for Christmas on Monday\, December 25th
LOCATION:
URL:https://sudbury.ma.us/selectboardsoffice/2017/12/22/town-offices-closed-for-christmas-on-monday-december-25th/
DESCRIPTION:For the latest details\, visit:  https://sudbury.ma.us/selectboardsoffice/2017/12/22/town-offices-closed-for-christmas-on-monday-december-25th/
END:VEVENT
END:VCALENDAR