BEGIN:VCALENDAR
VERSION:2.0
METHOD:PUBLISH
PRODID:-//hacksw/handcal/NONSGML v1.0//EN
BEGIN:VEVENT
TZID:America/New_York
UID:sudbury-zoom-event-81def7b5d212e94f7831c2c1aa6dedfa@sudbury.ma.us
SEQUENCE:1776776399
DTSTAMP:20260421T125959Z
DTSTART:20161111T140000Z
DURATION:PT480M
SUMMARY:Town Offices Closed Veterans Day\, Friday\, November 11th
LOCATION:
URL:https://sudbury.ma.us/selectboardsoffice/2016/11/10/town-offices-closed-veterans-day-friday-november-11th/
DESCRIPTION:For the latest details\, visit:  https://sudbury.ma.us/selectboardsoffice/2016/11/10/town-offices-closed-veterans-day-friday-november-11th/
END:VEVENT
END:VCALENDAR