BEGIN:VCALENDAR
VERSION:2.0
METHOD:PUBLISH
PRODID:-//hacksw/handcal/NONSGML v1.0//EN
BEGIN:VEVENT
TZID:America/New_York
UID:sudbury-zoom-event-ccaebdd5133db053e819479def8ac574@sudbury.ma.us
SEQUENCE:1776676900
DTSTAMP:20260420T092140Z
DTSTART:20260116T000000Z
DURATION:PT120M
SUMMARY:Liberty Ledge / Sewataro Subcommittee Meeting: Thursday\, January 15\, 2026
LOCATION:Virtual Meeting
URL:https://sudbury.ma.us/sewataroll/meeting/liberty-ledge-sewataro-subcommittee-meeting-thursday-january-15-2026/
DESCRIPTION:Liberty Ledge / Sewataro Advisory Committee meeting on January 15\, 2026 7:00:00 PM EST (-05:00)\n\nTo join the Liberty Ledge / Sewataro Advisory Committee meeting virtually\, please click on this link:\nhttps://zoom.us/j/83121600759\n\nFor audio only\, call the number below and enter the meeting ID on your telephone keypad.\n\nDial-in number:  978-639-3366 or 470-250-9358\nMeeting ID:  831 2160 0759\n\nFor the latest details\, visit:  https://sudbury.ma.us/sewataroll/meeting/liberty-ledge-sewataro-subcommittee-meeting-thursday-january-15-2026/
END:VEVENT
END:VCALENDAR