BEGIN:VCALENDAR
VERSION:2.0
METHOD:PUBLISH
PRODID:-//hacksw/handcal/NONSGML v1.0//EN
BEGIN:VEVENT
TZID:America/New_York
UID:sudbury-zoom-event-c5a8649bf0586fddae6b52a6dba31626@sudbury.ma.us
SEQUENCE:1776776452
DTSTAMP:20260421T130052Z
DTSTART:20250131T000000Z
DURATION:PT120M
SUMMARY:Sudbury 250 Committee Meeting: Thursday\, January 30\, 2025
LOCATION:Virtual Meeting
URL:https://sudbury.ma.us/sudbury250/meeting/sudbury-250-committee-meeting-thursday-january-30-2025/
DESCRIPTION:Sudbury 250 Committee meeting on January 30\, 2025 7:00:00 PM EST (-05:00)\n\nTo join the Sudbury 250 Committee meeting virtually\, please click on this link:\nhttps://zoom.us/j/82488578214\n\nFor audio only\, call the number below and enter the meeting ID on your telephone keypad.\n\nDial-in number:  978-639-3366 or 470-250-9358\nMeeting ID:  824 8857 8214\n\nFor the latest details\, visit:  https://sudbury.ma.us/sudbury250/meeting/sudbury-250-committee-meeting-thursday-january-30-2025/
END:VEVENT
END:VCALENDAR