BEGIN:VCALENDAR
VERSION:2.0
METHOD:PUBLISH
PRODID:-//hacksw/handcal/NONSGML v1.0//EN
BEGIN:VEVENT
TZID:America/New_York
UID:sudbury-zoom-event-2797bb21fe4a6b30e61faa6026def201@sudbury.ma.us
SEQUENCE:1776770730
DTSTAMP:20260421T112530Z
DTSTART:20250326T230000Z
DURATION:PT120M
SUMMARY:Sudbury 250 Committee Meeting: Wednesday\, March 26\, 2025
LOCATION:Virtual Meeting
URL:https://sudbury.ma.us/sudbury250/meeting/sudbury-250-committee-meeting-wednesday-march-26-2025/
DESCRIPTION:Sudbury 250 Committee meeting on March 26\, 2025 7:00:00 PM EDT (-04:00)\n\nTo join the Sudbury 250 Committee meeting virtually\, please click on this link:\nhttps://zoom.us/j/81565438464\n\nFor audio only\, call the number below and enter the meeting ID on your telephone keypad.\n\nDial-in number:  978-639-3366 or 470-250-9358\nMeeting ID:  815 6543 8464\n\nFor the latest details\, visit:  https://sudbury.ma.us/sudbury250/meeting/sudbury-250-committee-meeting-wednesday-march-26-2025/
END:VEVENT
END:VCALENDAR