BEGIN:VCALENDAR
VERSION:2.0
METHOD:PUBLISH
PRODID:-//hacksw/handcal/NONSGML v1.0//EN
BEGIN:VEVENT
TZID:America/New_York
UID:sudbury-zoom-event-7c995df1ffa78d4ccac4e2e8b2fa3f88@sudbury.ma.us
SEQUENCE:1776771331
DTSTAMP:20260421T113531Z
DTSTART:20250821T230000Z
DURATION:PT120M
SUMMARY:Sudbury 250 Committee Meeting: Thursday\, August 21\, 2025
LOCATION:Virtual Meeting
URL:https://sudbury.ma.us/sudbury250/meeting/sudbury-250-committee-meeting-thursday-august-21-2025/
DESCRIPTION:Sudbury 250 Committee meeting on August 21\, 2025 7:00:00 PM EDT (-04:00)\n\nTo join the Sudbury 250 Committee meeting virtually\, please click on this link:\nhttps://zoom.us/j/82488578214\n\nFor audio only\, call the number below and enter the meeting ID on your telephone keypad.\n\nDial-in number:  978-639-3366 or 470-250-9358\nMeeting ID:  824 8857 8214\n\nFor the latest details\, visit:  https://sudbury.ma.us/sudbury250/meeting/sudbury-250-committee-meeting-thursday-august-21-2025/
END:VEVENT
END:VCALENDAR