BEGIN:VCALENDAR
VERSION:2.0
METHOD:PUBLISH
PRODID:-//hacksw/handcal/NONSGML v1.0//EN
BEGIN:VEVENT
TZID:America/New_York
UID:sudbury-zoom-event-2546165141cc6ca7f363a38c5f1c382b@sudbury.ma.us
SEQUENCE:1776776450
DTSTAMP:20260421T130050Z
DTSTART:20260122T000000Z
DURATION:PT120M
SUMMARY:Sudbury 250 Committee Meeting: Wednesday\, January 21\, 2026
LOCATION:Virtual Meeting
URL:https://sudbury.ma.us/sudbury250/meeting/sudbury-250-committee-meeting-wednesday-january-21-2026/
DESCRIPTION:Sudbury 250 Committee meeting on January 21\, 2026 7:00:00 PM EST (-05:00)\n\nTo join the Sudbury 250 Committee meeting virtually\, please click on this link:\nhttps://zoom.us/j/82488578214\n\nFor audio only\, call the number below and enter the meeting ID on your telephone keypad.\n\nDial-in number:  978-639-3366 or 470-250-9358\nMeeting ID:  824 8857 8214\n\nFor the latest details\, visit:  https://sudbury.ma.us/sudbury250/meeting/sudbury-250-committee-meeting-wednesday-january-21-2026/
END:VEVENT
END:VCALENDAR