BEGIN:VCALENDAR
VERSION:2.0
METHOD:PUBLISH
PRODID:-//hacksw/handcal/NONSGML v1.0//EN
BEGIN:VEVENT
TZID:America/New_York
UID:sudbury-zoom-event-5a867b40e6930b07aa078bf8f2a360fe@sudbury.ma.us
SEQUENCE:1776795760
DTSTAMP:20260421T182240Z
DTSTART:20030430T130000Z
DURATION:PT120M
SUMMARY:Sudbury Day Committee Meeting: Wednesday\, April 30\, 2003
LOCATION:Town Hall
URL:https://sudbury.ma.us/sudburyday/meeting/sudbury-day-committee-meeting-wednesday-april-30-2003/
DESCRIPTION:For the latest details\, visit:  https://sudbury.ma.us/sudburyday/meeting/sudbury-day-committee-meeting-wednesday-april-30-2003/
END:VEVENT
END:VCALENDAR