BEGIN:VCALENDAR
VERSION:2.0
METHOD:PUBLISH
PRODID:-//hacksw/handcal/NONSGML v1.0//EN
BEGIN:VEVENT
TZID:America/New_York
UID:sudbury-zoom-event-20375656b991a25daeb16fd04ee29f57@sudbury.ma.us
SEQUENCE:1776800997
DTSTAMP:20260421T194957Z
DTSTART:20030507T230000Z
DURATION:PT120M
SUMMARY:Sudbury Day Committee Meeting: Wednesday\, May 7\, 2003
LOCATION:Town Hall
URL:https://sudbury.ma.us/sudburyday/meeting/sudbury-day-committee-meeting-wednesday-may-7-2003/
DESCRIPTION:For the latest details\, visit:  https://sudbury.ma.us/sudburyday/meeting/sudbury-day-committee-meeting-wednesday-may-7-2003/
END:VEVENT
END:VCALENDAR