BEGIN:VCALENDAR
VERSION:2.0
METHOD:PUBLISH
PRODID:-//hacksw/handcal/NONSGML v1.0//EN
BEGIN:VEVENT
TZID:America/New_York
UID:sudbury-zoom-event-0db19a86c03b6d5b46c2fea0e36dfc6f@sudbury.ma.us
SEQUENCE:1776796471
DTSTAMP:20260421T183431Z
DTSTART:20040519T001500Z
DURATION:PT120M
SUMMARY:Sudbury Day Committee Meeting: Tuesday\, May 18\, 2004
LOCATION:Town Hall - Lower Level
URL:https://sudbury.ma.us/sudburyday/meeting/sudbury-day-committee-meeting-tuesday-may-18-2004/
DESCRIPTION:For the latest details\, visit:  https://sudbury.ma.us/sudburyday/meeting/sudbury-day-committee-meeting-tuesday-may-18-2004/
END:VEVENT
END:VCALENDAR