BEGIN:VCALENDAR
VERSION:2.0
METHOD:PUBLISH
PRODID:-//hacksw/handcal/NONSGML v1.0//EN
BEGIN:VEVENT
TZID:America/New_York
UID:sudbury-zoom-event-b927ba468987f475eb8594af08b87cd3@sudbury.ma.us
SEQUENCE:1776800506
DTSTAMP:20260421T194146Z
DTSTART:20040909T230000Z
DURATION:PT120M
SUMMARY:Sudbury Day Committee Meeting: Thursday\, September 9\, 2004
LOCATION:Fire Station (Headquarters)
URL:https://sudbury.ma.us/sudburyday/meeting/sudbury-day-committee-meeting-thursday-september-9-2004/
DESCRIPTION:For the latest details\, visit:  https://sudbury.ma.us/sudburyday/meeting/sudbury-day-committee-meeting-thursday-september-9-2004/
END:VEVENT
END:VCALENDAR