BEGIN:VCALENDAR
VERSION:2.0
METHOD:PUBLISH
PRODID:-//hacksw/handcal/NONSGML v1.0//EN
BEGIN:VEVENT
TZID:America/New_York
UID:sudbury-zoom-event-d5511e6471d2bb88ee99e91de8e725ed@sudbury.ma.us
SEQUENCE:1777146580
DTSTAMP:20260425T194940Z
DTSTART:20240506T233000Z
DURATION:PT150M
SUMMARY:2024 Annual Town Meeting
LOCATION:Lincoln-Sudbury Regional High School - Auditorium
URL:https://sudbury.ma.us/townmeeting/2024/05/08/atm2024/
DESCRIPTION:For the latest details\, visit:  https://sudbury.ma.us/townmeeting/2024/05/08/atm2024/
END:VEVENT
END:VCALENDAR