BEGIN:VCALENDAR
VERSION:2.0
METHOD:PUBLISH
PRODID:-//hacksw/handcal/NONSGML v1.0//EN
BEGIN:VEVENT
TZID:America/New_York
UID:sudbury-zoom-event-16a7318d558a17f8acaf783e00be6d16@sudbury.ma.us
SEQUENCE:1776975723
DTSTAMP:20260423T202203Z
DTSTART:20141111T180000Z
DURATION:PT90M
SUMMARY:Veterans Day Flag Retirement Ceremony
LOCATION:American Legion Post 191 - Meeting Room
URL:https://sudbury.ma.us/veteransagent/2014/10/20/veterans-day-tues-nov-11th-flag-retirement-ceremony-100-230-pm-the-american-legion-post-191-676-boston-post-rd-sudbury/
DESCRIPTION:For the latest details\, visit:  https://sudbury.ma.us/veteransagent/2014/10/20/veterans-day-tues-nov-11th-flag-retirement-ceremony-100-230-pm-the-american-legion-post-191-676-boston-post-rd-sudbury/
END:VEVENT
END:VCALENDAR